BEGIN:VCALENDAR
VERSION:2.0
PRODID:-//hacksw/handcal//NONSGML v1.0//EN
BEGIN:VEVENT
SUMMARY:PISTE A MAYENNE
UID:45048ce8-0b7d-404c-aa74-87ca97d35f6f
DTSTART:20260327T230000Z
DTEND:20260328T230000Z
LOCATION:Localisation   
CATEGORIES:Sportif
STATUS:
URL;VALUE=URI:https://www.comitecyclisme53.com/evenements/2026/03/28/piste-a-mayenne-2435276
END:VEVENT
END:VCALENDAR
