BEGIN:VCALENDAR
VERSION:2.0
PRODID:-//hacksw/handcal//NONSGML v1.0//EN
BEGIN:VEVENT
SUMMARY:ST HILAIRE DU MAINE
UID:81080419-c82c-4c13-9a5d-96a6db3e20cd
DTSTART:20260327T230000Z
DTEND:20260328T230000Z
LOCATION:Localisation   
CATEGORIES:Sportif
STATUS:
URL;VALUE=URI:https://www.comitecyclisme53.com/evenements/2026/03/28/st-hilaire-du-maine-2435274
END:VEVENT
END:VCALENDAR
