BEGIN:VCALENDAR
VERSION:2.0
PRODID:-//hacksw/handcal//NONSGML v1.0//EN
BEGIN:VEVENT
SUMMARY:HERCE
UID:577d5c6c-864c-41a9-b734-6618f33acc89
DTSTART:20260411T220000Z
DTEND:20260412T220000Z
LOCATION:Localisation   
CATEGORIES:Sportif
STATUS:
URL;VALUE=URI:https://www.comitecyclisme53.com/evenements/2026/04/12/herce-2440958
END:VEVENT
END:VCALENDAR
